BEGIN:VCALENDAR
VERSION:2.0
PRODID:-//eventon.com NONSGML v1.0//EN
BEGIN:VEVENT
UID:69e4cc8e7a97e
DTSTAMP:20260419T143734
DTSTART:20240830T070000Z
DTEND:20240901T140000Z
LOCATION:
SUMMARY:(få pladser tilbage) HVEM ER DU - kursus med Karsten og Iben Munk
DESCRIPTION: Fra den dag vi tager vores første åndedræt\,  ja\,  måske endda før det\,  formes vi af den familie vi vokser op i blandt og især af vores mor og far. Hvilke normer hersker i familien? Hvordan kommunikeres der? Hvordan er stemningen? Bliver vores behov imødekommet? Dette miljø former og skaber[..]
END:VEVENT
END:VCALENDAR